BEGIN:VCALENDAR
VERSION:2.0
PRODID:SchoolNow
CALSCALE:GREGORIAN
BEGIN:VEVENT
UID:4bd8c07a-3753-11f1-8dba-0a58a9feac02
DTSTAMP:20260413T161031Z
SUMMARY:Private Event (McClaney)
URL;VALUE=URI:https://www.unionparkeastcdd.org/calendar/8990843/private-eve
 nt-mcclaney
DTSTART:20260419T190000Z
DTEND:20260419T230000Z
END:VEVENT
END:VCALENDAR
